BEGIN:VCALENDAR
VERSION:2.0
PRODID:-//Sascha Binder MdL - ECPv6.15.20//NONSGML v1.0//EN
CALSCALE:GREGORIAN
METHOD:PUBLISH
X-ORIGINAL-URL:https://www.saschabinder.de
X-WR-CALDESC:Veranstaltungen für Sascha Binder MdL
REFRESH-INTERVAL;VALUE=DURATION:PT1H
X-Robots-Tag:noindex
X-PUBLISHED-TTL:PT1H
BEGIN:VTIMEZONE
TZID:Europe/Berlin
BEGIN:DAYLIGHT
TZOFFSETFROM:+0100
TZOFFSETTO:+0200
TZNAME:CEST
DTSTART:20240331T010000
END:DAYLIGHT
BEGIN:STANDARD
TZOFFSETFROM:+0200
TZOFFSETTO:+0100
TZNAME:CET
DTSTART:20241027T010000
END:STANDARD
BEGIN:DAYLIGHT
TZOFFSETFROM:+0100
TZOFFSETTO:+0200
TZNAME:CEST
DTSTART:20250330T010000
END:DAYLIGHT
BEGIN:STANDARD
TZOFFSETFROM:+0200
TZOFFSETTO:+0100
TZNAME:CET
DTSTART:20251026T010000
END:STANDARD
BEGIN:DAYLIGHT
TZOFFSETFROM:+0100
TZOFFSETTO:+0200
TZNAME:CEST
DTSTART:20260329T010000
END:DAYLIGHT
BEGIN:STANDARD
TZOFFSETFROM:+0200
TZOFFSETTO:+0100
TZNAME:CET
DTSTART:20261025T010000
END:STANDARD
END:VTIMEZONE
BEGIN:VEVENT
DTSTART;TZID=Europe/Berlin:20250311T140000
DTEND;TZID=Europe/Berlin:20250311T170000
DTSTAMP:20260425T173513
CREATED:20250514T114302Z
LAST-MODIFIED:20250514T114302Z
UID:16901-1741701600-1741712400@www.saschabinder.de
SUMMARY:Fraktionssitzung der SPD-Landtagsfraktion
DESCRIPTION:
URL:https://www.saschabinder.de/event/fraktionssitzung-der-spd-landtagsfraktion-34/
LOCATION:Mannheim Radisson Blu Hotel\, Q7\, 27\, Mannheim\, 68161
CATEGORIES:Fraktion Landtag
ATTACH;FMTTYPE=image/png:https://www.saschabinder.de/wp-content/uploads/2018/11/sascha_binder_teaser_termine14.png
END:VEVENT
BEGIN:VEVENT
DTSTART;TZID=Europe/Berlin:20250313T093000
DTEND;TZID=Europe/Berlin:20250313T130000
DTSTAMP:20260425T173513
CREATED:20250514T120338Z
LAST-MODIFIED:20250514T120338Z
UID:17119-1741858200-1741870800@www.saschabinder.de
SUMMARY:118. Plenarsitzung des 17. Landtags von Baden-Württemberg
DESCRIPTION:
URL:https://www.saschabinder.de/event/118-plenarsitzung-des-17-landtags-von-baden-wuerttemberg/
LOCATION:Landtag von Baden-Württemberg\, Konrad-Adenauer-Str. 3\, Stuttgart\, 70173\, Deutschland
CATEGORIES:Landtag
ATTACH;FMTTYPE=image/png:https://www.saschabinder.de/wp-content/uploads/2018/11/sascha_binder_teaser_termine19.png
END:VEVENT
BEGIN:VEVENT
DTSTART;TZID=Europe/Berlin:20250313T100000
DTEND;TZID=Europe/Berlin:20250313T180000
DTSTAMP:20260425T173513
CREATED:20250514T120300Z
LAST-MODIFIED:20250514T120300Z
UID:17117-1741860000-1741888800@www.saschabinder.de
SUMMARY:117. Plenarsitzung des 17. Landtags von Baden-Württemberg
DESCRIPTION:
URL:https://www.saschabinder.de/event/117-plenarsitzung-des-17-landtags-von-baden-wuerttemberg/
LOCATION:Landtag von Baden-Württemberg\, Konrad-Adenauer-Str. 3\, Stuttgart\, 70173\, Deutschland
CATEGORIES:Landtag
ATTACH;FMTTYPE=image/png:https://www.saschabinder.de/wp-content/uploads/2018/11/sascha_binder_teaser_termine19.png
END:VEVENT
BEGIN:VEVENT
DTSTART;TZID=Europe/Berlin:20250318T140000
DTEND;TZID=Europe/Berlin:20250318T170000
DTSTAMP:20260425T173513
CREATED:20250514T114326Z
LAST-MODIFIED:20250514T114326Z
UID:17054-1742306400-1742317200@www.saschabinder.de
SUMMARY:Fraktionssitzung der SPD-Landtagsfraktion
DESCRIPTION:
URL:https://www.saschabinder.de/event/fraktionssitzung-der-spd-landtagsfraktion-35/
LOCATION:Mannheim Radisson Blu Hotel\, Q7\, 27\, Mannheim\, 68161
CATEGORIES:Fraktion Landtag
ATTACH;FMTTYPE=image/png:https://www.saschabinder.de/wp-content/uploads/2018/11/sascha_binder_teaser_termine14.png
END:VEVENT
BEGIN:VEVENT
DTSTART;TZID=Europe/Berlin:20250322T070000
DTEND;TZID=Europe/Berlin:20250329T110000
DTSTAMP:20260425T173513
CREATED:20230130T105740Z
LAST-MODIFIED:20250514T113947Z
UID:16352-1742626800-1743246000@www.saschabinder.de
SUMMARY:Delegationsreise Japan/Korea
DESCRIPTION:
URL:https://www.saschabinder.de/event/delegationsreise-indien/
LOCATION:Digital\, Digital
CATEGORIES:SPD,Termin Ehrenamt,Unterwegs im Land
ATTACH;FMTTYPE=image/png:https://www.saschabinder.de/wp-content/uploads/2022/05/Terminkachel_landesverband.png
END:VEVENT
BEGIN:VEVENT
DTSTART;TZID=Europe/Berlin:20250331T090000
DTEND;TZID=Europe/Berlin:20250331T193000
DTSTAMP:20260425T173513
CREATED:20250514T123152Z
LAST-MODIFIED:20250514T123152Z
UID:17180-1743411600-1743449400@www.saschabinder.de
SUMMARY:35. Sitzung des Untersuchungsausschusses IdP & Beförderungspraxis
DESCRIPTION:
URL:https://www.saschabinder.de/event/35-sitzung-des-untersuchungsausschusses-idp-befoerderungspraxis/
LOCATION:Haus des Landtags\, Johann-Jakob-Moser-Saal\, Stuttgart
CATEGORIES:Untersuchungsausschuss
ATTACH;FMTTYPE=image/png:https://www.saschabinder.de/wp-content/uploads/2018/11/sascha_binder_teaser_termine22.png
END:VEVENT
END:VCALENDAR