BEGIN:VCALENDAR
VERSION:2.0
PRODID:-//Sascha Binder MdL - ECPv6.15.20//NONSGML v1.0//EN
CALSCALE:GREGORIAN
METHOD:PUBLISH
X-WR-CALNAME:Sascha Binder MdL
X-ORIGINAL-URL:https://www.saschabinder.de
X-WR-CALDESC:Veranstaltungen für Sascha Binder MdL
REFRESH-INTERVAL;VALUE=DURATION:PT1H
X-Robots-Tag:noindex
X-PUBLISHED-TTL:PT1H
BEGIN:VTIMEZONE
TZID:Europe/Berlin
BEGIN:DAYLIGHT
TZOFFSETFROM:+0100
TZOFFSETTO:+0200
TZNAME:CEST
DTSTART:20240331T010000
END:DAYLIGHT
BEGIN:STANDARD
TZOFFSETFROM:+0200
TZOFFSETTO:+0100
TZNAME:CET
DTSTART:20241027T010000
END:STANDARD
BEGIN:DAYLIGHT
TZOFFSETFROM:+0100
TZOFFSETTO:+0200
TZNAME:CEST
DTSTART:20250330T010000
END:DAYLIGHT
BEGIN:STANDARD
TZOFFSETFROM:+0200
TZOFFSETTO:+0100
TZNAME:CET
DTSTART:20251026T010000
END:STANDARD
BEGIN:DAYLIGHT
TZOFFSETFROM:+0100
TZOFFSETTO:+0200
TZNAME:CEST
DTSTART:20260329T010000
END:DAYLIGHT
BEGIN:STANDARD
TZOFFSETFROM:+0200
TZOFFSETTO:+0100
TZNAME:CET
DTSTART:20261025T010000
END:STANDARD
END:VTIMEZONE
BEGIN:VEVENT
DTSTART;TZID=Europe/Berlin:20250401T140000
DTEND;TZID=Europe/Berlin:20250401T170000
DTSTAMP:20260425T173452
CREATED:20250514T114352Z
LAST-MODIFIED:20250514T114352Z
UID:17056-1743516000-1743526800@www.saschabinder.de
SUMMARY:Fraktionssitzung der SPD-Landtagsfraktion
DESCRIPTION:
URL:https://www.saschabinder.de/event/fraktionssitzung-der-spd-landtagsfraktion-36/
LOCATION:Mannheim Radisson Blu Hotel\, Q7\, 27\, Mannheim\, 68161
CATEGORIES:Fraktion Landtag
ATTACH;FMTTYPE=image/png:https://www.saschabinder.de/wp-content/uploads/2018/11/sascha_binder_teaser_termine14.png
END:VEVENT
BEGIN:VEVENT
DTSTART;TZID=Europe/Berlin:20250401T180000
DTEND;TZID=Europe/Berlin:20250401T190000
DTSTAMP:20260425T173452
CREATED:20250514T123940Z
LAST-MODIFIED:20250514T123940Z
UID:17192-1743530400-1743534000@www.saschabinder.de
SUMMARY:Präsidiumssitzung der SPD-Baden-Württemberg
DESCRIPTION:
URL:https://www.saschabinder.de/event/praesidiumssitzung-der-spd-baden-wuerttemberg-23/
LOCATION:Bürger- und Medienzentrum\, Konrad-Adenauer-Straße 3\, Stuttgart\, 70173
CATEGORIES:Fraktion Landtag,SPD
ATTACH;FMTTYPE=image/png:https://www.saschabinder.de/wp-content/uploads/2022/05/Terminkachel_landesverband.png
END:VEVENT
BEGIN:VEVENT
DTSTART;TZID=Europe/Berlin:20250402T090000
DTEND;TZID=Europe/Berlin:20250402T130000
DTSTAMP:20260425T173452
CREATED:20250514T120417Z
LAST-MODIFIED:20250514T120417Z
UID:17121-1743584400-1743598800@www.saschabinder.de
SUMMARY:119. Plenarsitzung des 17. Landtags von Baden-Württemberg
DESCRIPTION:
URL:https://www.saschabinder.de/event/119-plenarsitzung-des-17-landtags-von-baden-wuerttemberg/
LOCATION:Landtag von Baden-Württemberg\, Konrad-Adenauer-Str. 3\, Stuttgart\, 70173\, Deutschland
CATEGORIES:Landtag
ATTACH;FMTTYPE=image/png:https://www.saschabinder.de/wp-content/uploads/2018/11/sascha_binder_teaser_termine19.png
END:VEVENT
BEGIN:VEVENT
DTSTART;TZID=Europe/Berlin:20250407T090000
DTEND;TZID=Europe/Berlin:20250407T193000
DTSTAMP:20260425T173452
CREATED:20250514T123114Z
LAST-MODIFIED:20250514T123114Z
UID:17178-1744016400-1744054200@www.saschabinder.de
SUMMARY:36. Sitzung des Untersuchungsausschusses IdP & Beförderungspraxis
DESCRIPTION:
URL:https://www.saschabinder.de/event/36-sitzung-des-untersuchungsausschusses-idp-befoerderungspraxis/
LOCATION:Haus des Landtags\, Johann-Jakob-Moser-Saal\, Stuttgart
CATEGORIES:Untersuchungsausschuss
ATTACH;FMTTYPE=image/png:https://www.saschabinder.de/wp-content/uploads/2018/11/sascha_binder_teaser_termine22.png
END:VEVENT
BEGIN:VEVENT
DTSTART;TZID=Europe/Berlin:20250408T140000
DTEND;TZID=Europe/Berlin:20250408T170000
DTSTAMP:20260425T173452
CREATED:20250514T114410Z
LAST-MODIFIED:20250514T114410Z
UID:17058-1744120800-1744131600@www.saschabinder.de
SUMMARY:Fraktionssitzung der SPD-Landtagsfraktion
DESCRIPTION:
URL:https://www.saschabinder.de/event/fraktionssitzung-der-spd-landtagsfraktion-37/
LOCATION:Mannheim Radisson Blu Hotel\, Q7\, 27\, Mannheim\, 68161
CATEGORIES:Fraktion Landtag
ATTACH;FMTTYPE=image/png:https://www.saschabinder.de/wp-content/uploads/2018/11/sascha_binder_teaser_termine14.png
END:VEVENT
BEGIN:VEVENT
DTSTART;TZID=Europe/Berlin:20250409T100000
DTEND;TZID=Europe/Berlin:20250409T173000
DTSTAMP:20260425T173452
CREATED:20250514T120500Z
LAST-MODIFIED:20250514T120500Z
UID:17123-1744192800-1744219800@www.saschabinder.de
SUMMARY:120. Plenarsitzung des 17. Landtags von Baden-Württemberg
DESCRIPTION:
URL:https://www.saschabinder.de/event/120-plenarsitzung-des-17-landtags-von-baden-wuerttemberg/
LOCATION:Landtag von Baden-Württemberg\, Konrad-Adenauer-Str. 3\, Stuttgart\, 70173\, Deutschland
CATEGORIES:Landtag
ATTACH;FMTTYPE=image/png:https://www.saschabinder.de/wp-content/uploads/2018/11/sascha_binder_teaser_termine19.png
END:VEVENT
BEGIN:VEVENT
DTSTART;TZID=Europe/Berlin:20250409T130000
DTEND;TZID=Europe/Berlin:20250409T143000
DTSTAMP:20260425T173452
CREATED:20250514T123603Z
LAST-MODIFIED:20250514T123603Z
UID:17187-1744203600-1744209000@www.saschabinder.de
SUMMARY:Präsidiumssitzung der SPD-Baden-Württemberg
DESCRIPTION:
URL:https://www.saschabinder.de/event/praesidiumssitzung-der-spd-baden-wuerttemberg-21/
LOCATION:Bürger- und Medienzentrum\, Konrad-Adenauer-Straße 3\, Stuttgart\, 70173
CATEGORIES:Fraktion Landtag,SPD
ATTACH;FMTTYPE=image/png:https://www.saschabinder.de/wp-content/uploads/2022/05/Terminkachel_landesverband.png
END:VEVENT
BEGIN:VEVENT
DTSTART;TZID=Europe/Berlin:20250410T093000
DTEND;TZID=Europe/Berlin:20250410T173000
DTSTAMP:20260425T173452
CREATED:20250514T120550Z
LAST-MODIFIED:20250514T120550Z
UID:17125-1744277400-1744306200@www.saschabinder.de
SUMMARY:121. Plenarsitzung des 17. Landtags von Baden-Württemberg
DESCRIPTION:
URL:https://www.saschabinder.de/event/121-plenarsitzung-des-17-landtags-von-baden-wuerttemberg/
LOCATION:Landtag von Baden-Württemberg\, Konrad-Adenauer-Str. 3\, Stuttgart\, 70173\, Deutschland
CATEGORIES:Landtag
ATTACH;FMTTYPE=image/png:https://www.saschabinder.de/wp-content/uploads/2018/11/sascha_binder_teaser_termine19.png
END:VEVENT
BEGIN:VEVENT
DTSTART;TZID=Europe/Berlin:20250415T103000
DTEND;TZID=Europe/Berlin:20250415T130000
DTSTAMP:20260425T173452
CREATED:20250514T113831Z
LAST-MODIFIED:20250514T113831Z
UID:17046-1744713000-1744722000@www.saschabinder.de
SUMMARY:Fraktionsvorstandssitzung der SPD-Landtagsfraktion
DESCRIPTION:
URL:https://www.saschabinder.de/event/fraktionsvorstandssitzung-der-spd-landtagsfraktion-42/
LOCATION:SPD Landtagsfraktion\, Königstraße 9\, Stuttgart\, 70173
CATEGORIES:Fraktion Landtag
ATTACH;FMTTYPE=image/png:https://www.saschabinder.de/wp-content/uploads/2018/11/sascha_binder_teaser_termine14.png
END:VEVENT
BEGIN:VEVENT
DTSTART;TZID=Europe/Berlin:20250422T103000
DTEND;TZID=Europe/Berlin:20250422T130000
DTSTAMP:20260425T173452
CREATED:20250514T113736Z
LAST-MODIFIED:20250514T113736Z
UID:17044-1745317800-1745326800@www.saschabinder.de
SUMMARY:Fraktionsvorstandssitzung der SPD-Landtagsfraktion
DESCRIPTION:
URL:https://www.saschabinder.de/event/fraktionsvorstandssitzung-der-spd-landtagsfraktion-41/
LOCATION:SPD Landtagsfraktion\, Königstraße 9\, Stuttgart\, 70173
CATEGORIES:Fraktion Landtag
ATTACH;FMTTYPE=image/png:https://www.saschabinder.de/wp-content/uploads/2018/11/sascha_binder_teaser_termine14.png
END:VEVENT
BEGIN:VEVENT
DTSTART;TZID=Europe/Berlin:20250425T100000
DTEND;TZID=Europe/Berlin:20250425T110000
DTSTAMP:20260425T173452
CREATED:20250514T124027Z
LAST-MODIFIED:20250514T124027Z
UID:17194-1745575200-1745578800@www.saschabinder.de
SUMMARY:Präsidiumssitzung der SPD-Baden-Württemberg
DESCRIPTION:
URL:https://www.saschabinder.de/event/praesidiumssitzung-der-spd-baden-wuerttemberg-24/
LOCATION:Digital
CATEGORIES:Fraktion Landtag,SPD
ATTACH;FMTTYPE=image/png:https://www.saschabinder.de/wp-content/uploads/2022/05/Terminkachel_landesverband.png
END:VEVENT
END:VCALENDAR