BEGIN:VCALENDAR
VERSION:2.0
PRODID:-//Sascha Binder MdL - ECPv6.15.20//NONSGML v1.0//EN
CALSCALE:GREGORIAN
METHOD:PUBLISH
X-WR-CALNAME:Sascha Binder MdL
X-ORIGINAL-URL:https://www.saschabinder.de
X-WR-CALDESC:Veranstaltungen für Sascha Binder MdL
REFRESH-INTERVAL;VALUE=DURATION:PT1H
X-Robots-Tag:noindex
X-PUBLISHED-TTL:PT1H
BEGIN:VTIMEZONE
TZID:Europe/Berlin
BEGIN:DAYLIGHT
TZOFFSETFROM:+0100
TZOFFSETTO:+0200
TZNAME:CEST
DTSTART:20240331T010000
END:DAYLIGHT
BEGIN:STANDARD
TZOFFSETFROM:+0200
TZOFFSETTO:+0100
TZNAME:CET
DTSTART:20241027T010000
END:STANDARD
BEGIN:DAYLIGHT
TZOFFSETFROM:+0100
TZOFFSETTO:+0200
TZNAME:CEST
DTSTART:20250330T010000
END:DAYLIGHT
BEGIN:STANDARD
TZOFFSETFROM:+0200
TZOFFSETTO:+0100
TZNAME:CET
DTSTART:20251026T010000
END:STANDARD
BEGIN:DAYLIGHT
TZOFFSETFROM:+0100
TZOFFSETTO:+0200
TZNAME:CEST
DTSTART:20260329T010000
END:DAYLIGHT
BEGIN:STANDARD
TZOFFSETFROM:+0200
TZOFFSETTO:+0100
TZNAME:CET
DTSTART:20261025T010000
END:STANDARD
END:VTIMEZONE
BEGIN:VEVENT
DTSTART;TZID=Europe/Berlin:20250923T103000
DTEND;TZID=Europe/Berlin:20250923T130000
DTSTAMP:20260421T110757
CREATED:20250514T112705Z
LAST-MODIFIED:20250514T112827Z
UID:17016-1758623400-1758632400@www.saschabinder.de
SUMMARY:Fraktionsvorstandssitzung der SPD-Landtagsfraktion
DESCRIPTION:
URL:https://www.saschabinder.de/event/fraktionsvorstandssitzung-der-spd-landtagsfraktion-27/
LOCATION:SPD Landtagsfraktion\, Königstraße 9\, Stuttgart\, 70173
CATEGORIES:Fraktion Landtag
ATTACH;FMTTYPE=image/png:https://www.saschabinder.de/wp-content/uploads/2018/11/sascha_binder_teaser_termine14.png
END:VEVENT
BEGIN:VEVENT
DTSTART;TZID=Europe/Berlin:20250923T140000
DTEND;TZID=Europe/Berlin:20250923T170000
DTSTAMP:20260421T110757
CREATED:20250514T115101Z
LAST-MODIFIED:20250514T115101Z
UID:17080-1758636000-1758646800@www.saschabinder.de
SUMMARY:Fraktionssitzung der SPD-Landtagsfraktion
DESCRIPTION:
URL:https://www.saschabinder.de/event/fraktionssitzung-der-spd-landtagsfraktion-48/
LOCATION:SPD Landtagsfraktion\, Königstraße 9\, Stuttgart\, 70173
CATEGORIES:Fraktion Landtag
ATTACH;FMTTYPE=image/png:https://www.saschabinder.de/wp-content/uploads/2018/11/sascha_binder_teaser_termine14.png
END:VEVENT
BEGIN:VEVENT
DTSTART;TZID=Europe/Berlin:20250923T180000
DTEND;TZID=Europe/Berlin:20250923T190000
DTSTAMP:20260421T110757
CREATED:20250514T124246Z
LAST-MODIFIED:20250514T124246Z
UID:17204-1758650400-1758654000@www.saschabinder.de
SUMMARY:Präsidiumssitzung der SPD-Baden-Württemberg
DESCRIPTION:
URL:https://www.saschabinder.de/event/praesidiumssitzung-der-spd-baden-wuerttemberg-29/
LOCATION:Bürger- und Medienzentrum\, Konrad-Adenauer-Straße 3\, Stuttgart\, 70173
CATEGORIES:Fraktion Landtag,SPD
ATTACH;FMTTYPE=image/png:https://www.saschabinder.de/wp-content/uploads/2022/05/Terminkachel_landesverband.png
END:VEVENT
BEGIN:VEVENT
DTSTART;TZID=Europe/Berlin:20250930T103000
DTEND;TZID=Europe/Berlin:20250930T130000
DTSTAMP:20260421T110757
CREATED:20250514T112929Z
LAST-MODIFIED:20250514T112929Z
UID:17018-1759228200-1759237200@www.saschabinder.de
SUMMARY:Fraktionsvorstandssitzung der SPD-Landtagsfraktion
DESCRIPTION:
URL:https://www.saschabinder.de/event/fraktionsvorstandssitzung-der-spd-landtagsfraktion-28/
LOCATION:SPD Landtagsfraktion\, Königstraße 9\, Stuttgart\, 70173
CATEGORIES:Fraktion Landtag
ATTACH;FMTTYPE=image/png:https://www.saschabinder.de/wp-content/uploads/2018/11/sascha_binder_teaser_termine14.png
END:VEVENT
BEGIN:VEVENT
DTSTART;TZID=Europe/Berlin:20250930T140000
DTEND;TZID=Europe/Berlin:20250930T170000
DTSTAMP:20260421T110757
CREATED:20250514T115123Z
LAST-MODIFIED:20250514T115123Z
UID:17083-1759240800-1759251600@www.saschabinder.de
SUMMARY:Fraktionssitzung der SPD-Landtagsfraktion
DESCRIPTION:
URL:https://www.saschabinder.de/event/fraktionssitzung-der-spd-landtagsfraktion-49/
LOCATION:SPD Landtagsfraktion\, Königstraße 9\, Stuttgart\, 70173
CATEGORIES:Fraktion Landtag
ATTACH;FMTTYPE=image/png:https://www.saschabinder.de/wp-content/uploads/2018/11/sascha_binder_teaser_termine14.png
END:VEVENT
END:VCALENDAR