BEGIN:VCALENDAR
VERSION:2.0
PRODID:-//Sascha Binder MdL - ECPv6.15.20//NONSGML v1.0//EN
CALSCALE:GREGORIAN
METHOD:PUBLISH
X-WR-CALNAME:Sascha Binder MdL
X-ORIGINAL-URL:https://www.saschabinder.de
X-WR-CALDESC:Veranstaltungen für Sascha Binder MdL
REFRESH-INTERVAL;VALUE=DURATION:PT1H
X-Robots-Tag:noindex
X-PUBLISHED-TTL:PT1H
BEGIN:VTIMEZONE
TZID:Europe/Berlin
BEGIN:DAYLIGHT
TZOFFSETFROM:+0100
TZOFFSETTO:+0200
TZNAME:CEST
DTSTART:20210328T010000
END:DAYLIGHT
BEGIN:STANDARD
TZOFFSETFROM:+0200
TZOFFSETTO:+0100
TZNAME:CET
DTSTART:20211031T010000
END:STANDARD
BEGIN:DAYLIGHT
TZOFFSETFROM:+0100
TZOFFSETTO:+0200
TZNAME:CEST
DTSTART:20220327T010000
END:DAYLIGHT
BEGIN:STANDARD
TZOFFSETFROM:+0200
TZOFFSETTO:+0100
TZNAME:CET
DTSTART:20221030T010000
END:STANDARD
BEGIN:DAYLIGHT
TZOFFSETFROM:+0100
TZOFFSETTO:+0200
TZNAME:CEST
DTSTART:20230326T010000
END:DAYLIGHT
BEGIN:STANDARD
TZOFFSETFROM:+0200
TZOFFSETTO:+0100
TZNAME:CET
DTSTART:20231029T010000
END:STANDARD
BEGIN:DAYLIGHT
TZOFFSETFROM:+0100
TZOFFSETTO:+0200
TZNAME:CEST
DTSTART:20240331T010000
END:DAYLIGHT
BEGIN:STANDARD
TZOFFSETFROM:+0200
TZOFFSETTO:+0100
TZNAME:CET
DTSTART:20241027T010000
END:STANDARD
BEGIN:DAYLIGHT
TZOFFSETFROM:+0100
TZOFFSETTO:+0200
TZNAME:CEST
DTSTART:20250330T010000
END:DAYLIGHT
BEGIN:STANDARD
TZOFFSETFROM:+0200
TZOFFSETTO:+0100
TZNAME:CET
DTSTART:20251026T010000
END:STANDARD
END:VTIMEZONE
BEGIN:VEVENT
DTSTART;TZID=Europe/Berlin:20240507T103000
DTEND;TZID=Europe/Berlin:20240507T130000
DTSTAMP:20260420T131358
CREATED:20240412T101322Z
LAST-MODIFIED:20240412T101322Z
UID:16880-1715077800-1715086800@www.saschabinder.de
SUMMARY:Fraktionsvorstandssitzung der SPD-Landtagsfraktion
DESCRIPTION:
URL:https://www.saschabinder.de/event/fraktionsvorstandssitzung-der-spd-landtagsfraktion-9/
LOCATION:SPD Landtagsfraktion\, Königstraße 9\, Stuttgart\, 70173
CATEGORIES:Fraktion Landtag
ATTACH;FMTTYPE=image/png:https://www.saschabinder.de/wp-content/uploads/2018/11/sascha_binder_teaser_termine14.png
END:VEVENT
BEGIN:VEVENT
DTSTART;TZID=Europe/Berlin:20240430T103000
DTEND;TZID=Europe/Berlin:20240430T130000
DTSTAMP:20260420T131358
CREATED:20240412T101255Z
LAST-MODIFIED:20240412T101255Z
UID:16878-1714473000-1714482000@www.saschabinder.de
SUMMARY:Fraktionsvorstandssitzung der SPD-Landtagsfraktion
DESCRIPTION:
URL:https://www.saschabinder.de/event/fraktionsvorstandssitzung-der-spd-landtagsfraktion-8/
LOCATION:SPD Landtagsfraktion\, Königstraße 9\, Stuttgart\, 70173
CATEGORIES:Fraktion Landtag
ATTACH;FMTTYPE=image/png:https://www.saschabinder.de/wp-content/uploads/2018/11/sascha_binder_teaser_termine14.png
END:VEVENT
BEGIN:VEVENT
DTSTART;TZID=Europe/Berlin:20240423T103000
DTEND;TZID=Europe/Berlin:20240423T130000
DTSTAMP:20260420T131358
CREATED:20240412T101240Z
LAST-MODIFIED:20240412T101240Z
UID:16876-1713868200-1713877200@www.saschabinder.de
SUMMARY:Fraktionsvorstandssitzung der SPD-Landtagsfraktion
DESCRIPTION:
URL:https://www.saschabinder.de/event/fraktionsvorstandssitzung-der-spd-landtagsfraktion-7/
LOCATION:SPD Landtagsfraktion\, Königstraße 9\, Stuttgart\, 70173
CATEGORIES:Fraktion Landtag
ATTACH;FMTTYPE=image/png:https://www.saschabinder.de/wp-content/uploads/2018/11/sascha_binder_teaser_termine14.png
END:VEVENT
BEGIN:VEVENT
DTSTART;TZID=Europe/Berlin:20240416T140000
DTEND;TZID=Europe/Berlin:20240416T170000
DTSTAMP:20260420T131358
CREATED:20240412T101850Z
LAST-MODIFIED:20240412T101850Z
UID:16854-1713276000-1713286800@www.saschabinder.de
SUMMARY:Fraktionssitzung der SPD-Landtagsfraktion
DESCRIPTION:
URL:https://www.saschabinder.de/event/fraktionssitzung-der-spd-landtagsfraktion-29/
LOCATION:Mannheim Radisson Blu Hotel\, Q7\, 27\, Mannheim\, 68161
CATEGORIES:Fraktion Landtag
ATTACH;FMTTYPE=image/png:https://www.saschabinder.de/wp-content/uploads/2018/11/sascha_binder_teaser_termine14.png
END:VEVENT
BEGIN:VEVENT
DTSTART;TZID=Europe/Berlin:20240416T103000
DTEND;TZID=Europe/Berlin:20240416T130000
DTSTAMP:20260420T131358
CREATED:20240412T101011Z
LAST-MODIFIED:20240412T101011Z
UID:16874-1713263400-1713272400@www.saschabinder.de
SUMMARY:Fraktionsvorstandssitzung der SPD-Landtagsfraktion
DESCRIPTION:
URL:https://www.saschabinder.de/event/fraktionsvorstandssitzung-der-spd-landtagsfraktion-6/
LOCATION:SPD Landtagsfraktion\, Königstraße 9\, Stuttgart\, 70173
CATEGORIES:Fraktion Landtag
ATTACH;FMTTYPE=image/png:https://www.saschabinder.de/wp-content/uploads/2018/11/sascha_binder_teaser_termine14.png
END:VEVENT
BEGIN:VEVENT
DTSTART;TZID=Europe/Berlin:20240305T103000
DTEND;TZID=Europe/Berlin:20240305T130000
DTSTAMP:20260420T131358
CREATED:20240321T132641Z
LAST-MODIFIED:20240321T132641Z
UID:16859-1709634600-1709643600@www.saschabinder.de
SUMMARY:Fraktionsvorstandssitzung der SPD-Landtagsfraktion
DESCRIPTION:
URL:https://www.saschabinder.de/event/fraktionsvorstandssitzung-der-spd-landtagsfraktion-5/
LOCATION:SPD Landtagsfraktion\, Königstraße 9\, Stuttgart\, 70173
CATEGORIES:Fraktion Landtag
ATTACH;FMTTYPE=image/png:https://www.saschabinder.de/wp-content/uploads/2018/11/sascha_binder_teaser_termine14.png
END:VEVENT
BEGIN:VEVENT
DTSTART;TZID=Europe/Berlin:20240305T103000
DTEND;TZID=Europe/Berlin:20240305T130000
DTSTAMP:20260420T131358
CREATED:20240213T204000Z
LAST-MODIFIED:20240213T204000Z
UID:16851-1709634600-1709643600@www.saschabinder.de
SUMMARY:Fraktionsvorstandssitzung der SPD-Landtagsfraktion
DESCRIPTION:
URL:https://www.saschabinder.de/event/fraktionsvorstandssitzung-der-spd-landtagsfraktion-4/
LOCATION:SPD Landtagsfraktion\, Königstraße 9\, Stuttgart\, 70173
CATEGORIES:Fraktion Landtag
ATTACH;FMTTYPE=image/png:https://www.saschabinder.de/wp-content/uploads/2018/11/sascha_binder_teaser_termine14.png
END:VEVENT
BEGIN:VEVENT
DTSTART;TZID=Europe/Berlin:20240227T103000
DTEND;TZID=Europe/Berlin:20240227T130000
DTSTAMP:20260420T131358
CREATED:20240213T203918Z
LAST-MODIFIED:20240213T203918Z
UID:16845-1709029800-1709038800@www.saschabinder.de
SUMMARY:Fraktionsvorstandssitzung der SPD-Landtagsfraktion
DESCRIPTION:
URL:https://www.saschabinder.de/event/fraktionsvorstandssitzung-der-spd-landtagsfraktion-2/
LOCATION:SPD Landtagsfraktion\, Königstraße 9\, Stuttgart\, 70173
CATEGORIES:Fraktion Landtag
ATTACH;FMTTYPE=image/png:https://www.saschabinder.de/wp-content/uploads/2018/11/sascha_binder_teaser_termine14.png
END:VEVENT
BEGIN:VEVENT
DTSTART;TZID=Europe/Berlin:20240220T103000
DTEND;TZID=Europe/Berlin:20240220T130000
DTSTAMP:20260420T131358
CREATED:20240213T203939Z
LAST-MODIFIED:20240213T203939Z
UID:16849-1708425000-1708434000@www.saschabinder.de
SUMMARY:Fraktionsvorstandssitzung der SPD-Landtagsfraktion
DESCRIPTION:
URL:https://www.saschabinder.de/event/fraktionsvorstandssitzung-der-spd-landtagsfraktion-3/
LOCATION:SPD Landtagsfraktion\, Königstraße 9\, Stuttgart\, 70173
CATEGORIES:Fraktion Landtag
ATTACH;FMTTYPE=image/png:https://www.saschabinder.de/wp-content/uploads/2018/11/sascha_binder_teaser_termine14.png
END:VEVENT
BEGIN:VEVENT
DTSTART;TZID=Europe/Berlin:20230110T140000
DTEND;TZID=Europe/Berlin:20230110T170000
DTSTAMP:20260420T131358
CREATED:20230109T124211Z
LAST-MODIFIED:20230109T124211Z
UID:16270-1673359200-1673370000@www.saschabinder.de
SUMMARY:Fraktionssitzung der SPD-Landtagsfraktion
DESCRIPTION:
URL:https://www.saschabinder.de/event/fraktionssitzung-der-spd-landtagsfraktion-33/
LOCATION:Mannheim Radisson Blu Hotel\, Q7\, 27\, Mannheim\, 68161
CATEGORIES:Fraktion Landtag
ATTACH;FMTTYPE=image/png:https://www.saschabinder.de/wp-content/uploads/2018/11/sascha_binder_teaser_termine14.png
END:VEVENT
BEGIN:VEVENT
DTSTART;TZID=Europe/Berlin:20230109T180000
DTEND;TZID=Europe/Berlin:20230109T190000
DTSTAMP:20260420T131358
CREATED:20230109T115052Z
LAST-MODIFIED:20230109T123206Z
UID:16253-1673287200-1673290800@www.saschabinder.de
SUMMARY:Fraktionsvorstandssitzung der SPD-Landtagsfraktion
DESCRIPTION:
URL:https://www.saschabinder.de/event/fraktionsvorstandssitzung-der-spd-landtagsfraktion/
LOCATION:Mannheim Radisson Blu Hotel\, Q7\, 27\, Mannheim\, 68161
CATEGORIES:Fraktion Landtag
ATTACH;FMTTYPE=image/png:https://www.saschabinder.de/wp-content/uploads/2018/11/sascha_binder_teaser_termine14.png
END:VEVENT
BEGIN:VEVENT
DTSTART;TZID=Europe/Berlin:20221005T080000
DTEND;TZID=Europe/Berlin:20221007T130000
DTSTAMP:20260420T131358
CREATED:20221004T071256Z
LAST-MODIFIED:20221004T071459Z
UID:16125-1664956800-1665147600@www.saschabinder.de
SUMMARY:Fraktionsvorsitzendenkonferenz
DESCRIPTION:
URL:https://www.saschabinder.de/event/fraktionsvorsitzendenkonferenz-2/
LOCATION:Hamburger Rathaus\, Rathausmarkt 1\, Hamburg\, 20095
CATEGORIES:Fraktion Landtag
ATTACH;FMTTYPE=image/png:https://www.saschabinder.de/wp-content/uploads/2022/05/Terminkachel_landesverband.png
END:VEVENT
BEGIN:VEVENT
DTSTART;TZID=Europe/Berlin:20221004T120000
DTEND;TZID=Europe/Berlin:20221006T200000
DTSTAMP:20260420T131358
CREATED:20221004T071203Z
LAST-MODIFIED:20221004T071615Z
UID:16122-1664884800-1665086400@www.saschabinder.de
SUMMARY:Fraktionsvorsitzendenkonferenz
DESCRIPTION:
URL:https://www.saschabinder.de/event/fraktionsvorsitzendenkonferenz/
LOCATION:Hamburger Rathaus\, Rathausmarkt 1\, Hamburg\, 20095
CATEGORIES:Fraktion Landtag
ATTACH;FMTTYPE=image/png:https://www.saschabinder.de/wp-content/uploads/2022/05/Terminkachel_landesverband.png
END:VEVENT
BEGIN:VEVENT
DTSTART;TZID=Europe/Berlin:20220912T190000
DTEND;TZID=Europe/Berlin:20220914T150000
DTSTAMP:20260420T131358
CREATED:20220905T124206Z
LAST-MODIFIED:20220906T071609Z
UID:16090-1663009200-1663167600@www.saschabinder.de
SUMMARY:Fraktionsklausur | Fraktionssitzung der SPD-Landtagsfraktion
DESCRIPTION:
URL:https://www.saschabinder.de/event/fraktionsklausur-fraktionssitzung-der-spd-landtagsfraktion-2/
LOCATION:Konstanz\, Bahnhofsplatz 6\, Konstanz\, 78462
CATEGORIES:Fraktion Landtag
ATTACH;FMTTYPE=image/png:https://www.saschabinder.de/wp-content/uploads/2018/11/sascha_binder_teaser_termine14.png
END:VEVENT
BEGIN:VEVENT
DTSTART;TZID=Europe/Berlin:20220709T110000
DTEND;TZID=Europe/Berlin:20220710T180000
DTSTAMP:20260420T131358
CREATED:20220630T110147Z
LAST-MODIFIED:20220630T110147Z
UID:15990-1657364400-1657476000@www.saschabinder.de
SUMMARY:Bürgerfest im Landtag
DESCRIPTION:
URL:https://www.saschabinder.de/event/buergerfest-im-landtag/
LOCATION:SPD Landtagsfraktion\, Königstraße 9\, Stuttgart\, 70173
CATEGORIES:Fraktion Landtag
ATTACH;FMTTYPE=image/png:https://www.saschabinder.de/wp-content/uploads/2018/11/sascha_binder_teaser_termine14.png
END:VEVENT
BEGIN:VEVENT
DTSTART;TZID=Europe/Berlin:20220706T093000
DTEND;TZID=Europe/Berlin:20220707T120000
DTSTAMP:20260420T131358
CREATED:20220630T105021Z
LAST-MODIFIED:20220630T105021Z
UID:15985-1657099800-1657195200@www.saschabinder.de
SUMMARY:Fortsetzung der Fraktionssitzung
DESCRIPTION:
URL:https://www.saschabinder.de/event/fortsetzung-der-fraktionssitzung/
LOCATION:Steigenberger Hotel am Kanzleramt\, Ella-Trebe-Str. 5\, Berlin\, 10557
CATEGORIES:Fraktion Landtag
ATTACH;FMTTYPE=image/png:https://www.saschabinder.de/wp-content/uploads/2018/11/sascha_binder_teaser_termine14.png
END:VEVENT
BEGIN:VEVENT
DTSTART;TZID=Europe/Berlin:20220705T163000
DTEND;TZID=Europe/Berlin:20220706T173000
DTSTAMP:20260420T131358
CREATED:20220630T105350Z
LAST-MODIFIED:20220630T105350Z
UID:15987-1657038600-1657128600@www.saschabinder.de
SUMMARY:Austausch mit Frau Staatsministerin Sarah Ryglewski
DESCRIPTION:
URL:https://www.saschabinder.de/event/austausch-mit-frau-staatsministerin-sarah-ryglewski/
LOCATION:Bundeskanzleramt\, Willy-Brandt-Str. 1\, Berlin\, 10557
CATEGORIES:Fraktion Landtag
ATTACH;FMTTYPE=image/png:https://www.saschabinder.de/wp-content/uploads/2018/11/sascha_binder_teaser_termine14.png
END:VEVENT
BEGIN:VEVENT
DTSTART;TZID=Europe/Berlin:20220705T093000
DTEND;TZID=Europe/Berlin:20220706T170000
DTSTAMP:20260420T131358
CREATED:20220630T104939Z
LAST-MODIFIED:20220630T105128Z
UID:15983-1657013400-1657126800@www.saschabinder.de
SUMMARY:Fraktionssitzung
DESCRIPTION:
URL:https://www.saschabinder.de/event/fraktionssitzung/
LOCATION:Steigenberger Hotel am Kanzleramt\, Ella-Trebe-Str. 5\, Berlin\, 10557
CATEGORIES:Fraktion Landtag
ATTACH;FMTTYPE=image/png:https://www.saschabinder.de/wp-content/uploads/2018/11/sascha_binder_teaser_termine14.png
END:VEVENT
BEGIN:VEVENT
DTSTART;TZID=Europe/Berlin:20220704T170000
DTEND;TZID=Europe/Berlin:20220705T183000
DTSTAMP:20260420T131358
CREATED:20220630T104859Z
LAST-MODIFIED:20220630T104859Z
UID:15979-1656954000-1657045800@www.saschabinder.de
SUMMARY:Fraktionsvorstandssitzung
DESCRIPTION:
URL:https://www.saschabinder.de/event/fraktionsvorstandssitzung/
LOCATION:Steigenberger Hotel am Kanzleramt\, Ella-Trebe-Str. 5\, Berlin\, 10557
CATEGORIES:Fraktion Landtag
ATTACH;FMTTYPE=image/png:https://www.saschabinder.de/wp-content/uploads/2018/11/sascha_binder_teaser_termine14.png
END:VEVENT
BEGIN:VEVENT
DTSTART;TZID=Europe/Berlin:20220111T103000
DTEND;TZID=Europe/Berlin:20220112T180000
DTSTAMP:20260420T131358
CREATED:20220105T125139Z
LAST-MODIFIED:20220105T182158Z
UID:15429-1641897000-1642010400@www.saschabinder.de
SUMMARY:Fraktionsklausur | Fraktionssitzung der SPD-Landtagsfraktion
DESCRIPTION:
URL:https://www.saschabinder.de/event/fraktionsklausur-fraktionssitzung-der-spd-landtagsfraktion/
LOCATION:Voith Arena\, Schloßhaustraße 162\, Heidenheim\, 89522
CATEGORIES:Fraktion Landtag
ATTACH;FMTTYPE=image/png:https://www.saschabinder.de/wp-content/uploads/2018/11/sascha_binder_teaser_termine14.png
END:VEVENT
END:VCALENDAR